BEGIN:VCALENDAR
VERSION:2.0
PRODID:-//wp-events-plugin.com//7.2.3.1//EN
TZID:Europe/Berlin
X-WR-TIMEZONE:Europe/Berlin
BEGIN:VEVENT
UID:114@cvjm-baumhauscamp.org
DTSTART;TZID=Europe/Berlin:20240216T190000
DTEND;TZID=Europe/Berlin:20240216T233000
DTSTAMP:20240205T091112Z
URL:https://cvjm-baumhauscamp.org/events/frauen-lagerfeuerabend/
SUMMARY:Frauen Lagerfeuerabend (im Wohnzimmer)
DESCRIPTION:Weinprobe mit Martin Erb aus Offenburg.\nDie Leidenschaft für 
 unsere Arbeit\, sowie die Liebe zur Natur geben uns den Enthusiasmus\, uns
 er Handwerk ständig zu verfeinern. Menschen für dieses Lebensgefühl zu 
 begeistern\, ist unsere Freude und Ziel zugleich. Wein schenkt Freude und 
 verbindet.\nDas sagt Martin Erb ist Winzer aus Leidenschaft und erzählt v
 on Seiner Arbeit in den Weinbergen und von seinem Glauben\nDer Abend steht
  unter dem Motto:\nlove your neighbour \nlove your labour \nlove your sa
 viour\nEs soll um Beziehung gehen\, auch gerade in Bezug auf die Jahreslos
 ung :-)\nHerzliche Einladung zu diesem besonderen Abend nur für Frauen\nF
 ür Kinderbetreuung ist gesorgt.
ATTACH;FMTTYPE=image/jpeg:https://cvjm-baumhauscamp.org/wp-content/uploads
 /2023/12/Osternacht.jpg
CATEGORIES:Veranstaltung
LOCATION:Forsthaus Michelbuch\, Forsthaus Michelbuch\, Michelbuch\, Hessen\
 , 69239\, Deutschland
X-APPLE-STRUCTURED-LOCATION;VALUE=URI;X-ADDRESS=Forsthaus Michelbuch\, Mich
 elbuch\, Hessen\, 69239\, Deutschland;X-APPLE-RADIUS=100;X-TITLE=Forsthaus
  Michelbuch:geo:0,0
END:VEVENT
BEGIN:VTIMEZONE
TZID:Europe/Berlin
X-LIC-LOCATION:Europe/Berlin
BEGIN:STANDARD
DTSTART:20231029T020000
TZOFFSETFROM:+0200
TZOFFSETTO:+0100
TZNAME:CET
END:STANDARD
END:VTIMEZONE
END:VCALENDAR