BEGIN:VCALENDAR
VERSION:2.0
PRODID:-//wp-events-plugin.com//7.2.3.1//EN
TZID:Europe/Berlin
X-WR-TIMEZONE:Europe/Berlin
BEGIN:VEVENT
UID:116@cvjm-baumhauscamp.org
DTSTART;TZID=Europe/Berlin;VALUE=DATE:20250810
DTEND;TZID=Europe/Berlin;VALUE=DATE:20250818
DTSTAMP:20241123T104557Z
URL:https://cvjm-baumhauscamp.org/events/baumhauskids-2025/
SUMMARY:BaumhausKids 2025
DESCRIPTION:Und sie gingen in den Wald...\n\nLeben im riesigen Baumhaus\, s
 chlafen in Zelten im Wald\, klettern in Bäumen\, singen am Lagerfeuer\, G
 eschichten aus der Bibel\, Action bei Geländespielen\, Gemeinschaft in de
 r Zeltfamilie\, Spaß im Pool\, füttern von Tieren und noch vieles mehr g
 ehört zu BaumhausKids. Acht Tage voller Möglichkeiten\, den Wald\, Jesus
  und neue Freunde kennenzulernen.\n\nBist du dabei?\n\nAnmeldung / Kontakt
 \nwww.cvjmbaden.de\n\nAnmeldeschluss 19.07.2025
ATTACH;FMTTYPE=image/jpeg:https://cvjm-baumhauscamp.org/wp-content/uploads
 /2023/11/BaumhausKids.jpg
CATEGORIES:Camp
LOCATION:Baumhaus\, Baumhauscamp\, Michelbuch\, Hessen\, 69239\, Deutschlan
 d
X-APPLE-STRUCTURED-LOCATION;VALUE=URI;X-ADDRESS=Baumhauscamp\, Michelbuch\,
  Hessen\, 69239\, Deutschland;X-APPLE-RADIUS=100;X-TITLE=Baumhaus:geo:0,0
END:VEVENT
BEGIN:VTIMEZONE
TZID:Europe/Berlin
X-LIC-LOCATION:Europe/Berlin
BEGIN:DAYLIGHT
DTSTART:20250330T030000
TZOFFSETFROM:+0100
TZOFFSETTO:+0200
TZNAME:CEST
END:DAYLIGHT
END:VTIMEZONE
END:VCALENDAR