BEGIN:VCALENDAR
VERSION:2.0
PRODID:-//wp-events-plugin.com//7.2.3.1//EN
TZID:Europe/Berlin
X-WR-TIMEZONE:Europe/Berlin
BEGIN:VEVENT
UID:152@cvjm-baumhauscamp.org
DTSTART;TZID=Europe/Berlin;VALUE=DATE:20251114
DTEND;TZID=Europe/Berlin;VALUE=DATE:20251117
DTSTAMP:20250718T191001Z
URL:https://cvjm-baumhauscamp.org/events/baueinsatz-forsthaus-michelbuch-3
 /
SUMMARY:Baueinsatz Forsthaus Michelbuch
DESCRIPTION:Unser Verein baut seit fünf Jahren das alte Forsthaus Michelbu
 ch in ein wald- und erlebnispädagogisches Zentrum um. Es soll Raum für j
 unge Menschen bieten\, um zur Ruhe zu kommen\, zu sich zu finden\, um sich
  dadurch selbst zu entfalten und Gott zu erleben. Wir laden Dich ein\, Tei
 l dieses Projektes zu werden und uns dabei zu helfen das Forsthaus umzubau
 en. Ein großer Teil der Arbeiten wird sich dieses Jahr um den Chill- und 
 Andachtsraum auf dem Dachboden drehen\, aber auch das Außengelände soll 
 weiterentwickelt werden. Zum Abschluss der Bauwochenenden wollen wir sonnt
 agnachmittags auf dem Baumhaus oder am Forsthaus Waldgottesdienst feiern. 
 Dazu sind alle herzlich eingeladen.\n\nInteressierst Du Dich für das Fors
 thaus\, bist Du herzlich eingeladen einfach hereinzuschauen und Dich vom B
 aufortschritt zu überzeugen. Für die Baucamps im Forsthaus Michelbuch tr
 effen sich alle Helfer und Interessierte jedes 3. Wochenende im Monat\, um
  an dieser Vision praktisch weiterzubauen. Beginn ist Freitagabend oder na
 ch Rücksprache wie es eben passt.\n\nAnmeldung / Kontakt\nReinhard Hauser
 \nreinhard.hauser@cvjm-baumhauscamp.org
ATTACH;FMTTYPE=image/jpeg:https://cvjm-baumhauscamp.org/wp-content/uploads
 /2025/07/bauwoche-forsthaus-2024-web-012.jpg
CATEGORIES:Baueinsatz
LOCATION:Forsthaus Michelbuch\, Forsthaus Michelbuch\, Michelbuch\, Hessen\
 , 69239\, Deutschland
X-APPLE-STRUCTURED-LOCATION;VALUE=URI;X-ADDRESS=Forsthaus Michelbuch\, Mich
 elbuch\, Hessen\, 69239\, Deutschland;X-APPLE-RADIUS=100;X-TITLE=Forsthaus
  Michelbuch:geo:0,0
END:VEVENT
BEGIN:VTIMEZONE
TZID:Europe/Berlin
X-LIC-LOCATION:Europe/Berlin
BEGIN:STANDARD
DTSTART:20251026T020000
TZOFFSETFROM:+0200
TZOFFSETTO:+0100
TZNAME:CET
END:STANDARD
END:VTIMEZONE
END:VCALENDAR