BEGIN:VCALENDAR
VERSION:2.0
PRODID:-//wp-events-plugin.com//7.2.3.1//EN
TZID:Europe/Berlin
X-WR-TIMEZONE:Europe/Berlin
BEGIN:VEVENT
UID:130@cvjm-baumhauscamp.org
DTSTART;TZID=Europe/Berlin:20251101T100000
DTEND;TZID=Europe/Berlin:20251102T150000
DTSTAMP:20241223T190319Z
URL:https://cvjm-baumhauscamp.org/events/achtsamkeitswochenende-2/
SUMMARY:Achtsamkeitswochenende
DESCRIPTION:Ein Wochenende mit allen Sinnen im Wald. Doch geht es hierbei n
 icht nur um die achtsame Wahrnehmung von äußeren Geräuschen und visuell
 en Eindrücken\, sondern auch um das bewusste Wahrnehmen unserer Gefühl
 e\, Reaktionen und inneren Stimmen in ungewohnten Situationen\,\nWahrnehmu
 ngs- und Kooperationsübungen und um das Wahrnehmen von Gottes Stimme in 
 all diesen Eindrücken. Eine inspirierende und bereichernde Zeit für pe
 rsönliches und geistliches Wachstum.\n\nGruppe: 6 - 14 Personen\nAusrüs
 tung: Gutes Schuhwerk\, wetterfeste Kleidung\, Proviant für den Tag\nLeis
 tungen: Unterkunft und Verpflegung\nKosten: 35 € und Spende nach eigenem
  Ermessen\nLeitung: Silke McCormick-Smith\nKontakt: silke.mccormick-smith@
 cvjm-baumhauscamp.org\nAnmeldefrist: 25.10.2025
ATTACH;FMTTYPE=image/jpeg:https://cvjm-baumhauscamp.org/wp-content/uploads
 /2023/09/achtsamkeit.jpg
CATEGORIES:Workshop
LOCATION:Forsthaus Michelbuch\, Forsthaus Michelbuch\, Michelbuch\, Hessen\
 , 69239\, Deutschland
X-APPLE-STRUCTURED-LOCATION;VALUE=URI;X-ADDRESS=Forsthaus Michelbuch\, Mich
 elbuch\, Hessen\, 69239\, Deutschland;X-APPLE-RADIUS=100;X-TITLE=Forsthaus
  Michelbuch:geo:0,0
END:VEVENT
BEGIN:VTIMEZONE
TZID:Europe/Berlin
X-LIC-LOCATION:Europe/Berlin
BEGIN:STANDARD
DTSTART:20251026T020000
TZOFFSETFROM:+0200
TZOFFSETTO:+0100
TZNAME:CET
END:STANDARD
END:VTIMEZONE
END:VCALENDAR